BEGIN:VCALENDAR
VERSION:2.0
PRODID:-//Kulttuurikonttori - ECPv6.9.1//NONSGML v1.0//EN
CALSCALE:GREGORIAN
METHOD:PUBLISH
X-ORIGINAL-URL:https://kulttuurikonttori.fi
X-WR-CALDESC:Events for Kulttuurikonttori
REFRESH-INTERVAL;VALUE=DURATION:PT1H
X-Robots-Tag:noindex
X-PUBLISHED-TTL:PT1H
BEGIN:VTIMEZONE
TZID:Europe/Helsinki
BEGIN:DAYLIGHT
TZOFFSETFROM:+0200
TZOFFSETTO:+0300
TZNAME:EEST
DTSTART:20250330T010000
END:DAYLIGHT
BEGIN:STANDARD
TZOFFSETFROM:+0300
TZOFFSETTO:+0200
TZNAME:EET
DTSTART:20251026T010000
END:STANDARD
END:VTIMEZONE
BEGIN:VEVENT
DTSTART;TZID=Europe/Helsinki:20250906T170000
DTEND;TZID=Europe/Helsinki:20250930T180000
DTSTAMP:20260424T190915
CREATED:20250820T080309Z
LAST-MODIFIED:20250820T080309Z
UID:1210-1757178000-1759255200@kulttuurikonttori.fi
SUMMARY:Figuratiivista mättöä/Abstraktia huttua – näyttely Ismo Jokiaho
DESCRIPTION:Figuratiivista mättöä/Abstraktia huttua – näyttely Kulttuuri Konttorin galleriassa\n7.9.2025 – 30.9 .2025 \nNäyttely avoinna maanantaista sunnuntaihin kello 11–18. Tervetuloa!\n_________________________________________________________________ \n  \n”Figuratiivinen mättö/Abstrakti huttu” näyttelyn nimenä voi kuulostaa satunnaiselta yhdistelmältä sanoja\, mutta herättää varmasti erilaisia mielikuvia ja tunteita! \nFiguratiivinen mättö ja abstrakti huttu kuvaavat kahta hyvin erilaista taiteellista ilmaisutapaa\, jotka molemmat yhdistyvät teoksissani saumattomasti siten\, että molemmat tavat teoksissa inspiroivat toisiaan luoden mielenkiintoisia vuorovaikutuksia. \nFiguratiivinen mättö viittaa runsaisiin ja voimakkaisiin visuaalisiin elementteihin\, jotka kertovat tarinaa teoksessa. Abstrakti huttu taas kuvastaa teoksen kaaosta\, vapautta ja luovuutta puhtaan avoimesti\, keskittyen enemmänkin teoksen väreihin\, muotoihin ja tunneilmaisuun ilman selkeää esitystä \,viittaussuhteita tai varsinaista tunnistettavaa muotoa. Abstraktit elementit avaavat tilaa katsojan omalle tulkinnalle ja tunteille\, jolloin jokainen kokemus on ainutlaatuinen. \nFiguratiivisen ja abstraktin ilmaisun välinen taide sijaitsee usein niin sanotun ”kolmannen tilan” alueella\, jossa yhdistyvät sekä realistiset että ei- realistiset elementit. Tällaisessa taiteessa on pyrkimys luoda tarinoita\, kulttuurisia viittauksia sekä henkilökohtaisia yleisinhimillisiä kokemuksia. \nYhdistämällä näitä kahta tyyliä\, yritän luoda teoksia\, jotka leikkivät sekä tunnistettavuuden että vapauden kanssa. Tämä yhdistelmä voi haastaa myös katsojan odotuksia ja avata uusia näkökulmia taiteen ymmärtämiseen. Tällaisella lähestymistavalla yritän herättää kysymyksiä siitä\, mitä taide voi olla ja ilmaantua\, ja miten se voi kommunikoida inhimillisiä tunteita ja ajatuksia herättäen. \nFiguratiivista mättöä/Abstraktia huttua on Jokiahon toinen\, päivitetty versio näyttelystä tällä kyseisellä teemalla. Ensimmäinen pidettiin Tampereella helmi-maaliskuussa galleria Rongassa saaden aikaan kiinnostuneen ja innostuneenkin vastaanoton. \nAvajaiset 6.9. kello 17–19.  Tervetuloa tutustumaan! \nIsmo Jokiaho\nLisätietoja: www.ismojokiaho.fi
URL:https://kulttuurikonttori.fi/kalenteri/figuratiivista-mattoa-abstraktia-huttua-nayttely-ismo-jokiaho/
ATTACH;FMTTYPE=image/jpeg:https://kulttuurikonttori.fi/wp-content/uploads/2025/08/elinikainenoppiminen_1000.jpg
END:VEVENT
END:VCALENDAR