BEGIN:VCALENDAR
VERSION:2.0
PRODID:-//Kulttuurikonttori - ECPv6.9.1//NONSGML v1.0//EN
CALSCALE:GREGORIAN
METHOD:PUBLISH
X-ORIGINAL-URL:https://kulttuurikonttori.fi
X-WR-CALDESC:Events for Kulttuurikonttori
REFRESH-INTERVAL;VALUE=DURATION:PT1H
X-Robots-Tag:noindex
X-PUBLISHED-TTL:PT1H
BEGIN:VTIMEZONE
TZID:Europe/Helsinki
BEGIN:DAYLIGHT
TZOFFSETFROM:+0200
TZOFFSETTO:+0300
TZNAME:EEST
DTSTART:20250330T010000
END:DAYLIGHT
BEGIN:STANDARD
TZOFFSETFROM:+0300
TZOFFSETTO:+0200
TZNAME:EET
DTSTART:20251026T010000
END:STANDARD
END:VTIMEZONE
BEGIN:VEVENT
DTSTART;TZID=Europe/Helsinki:20251004T170000
DTEND;TZID=Europe/Helsinki:20251104T180000
DTSTAMP:20260424T174315
CREATED:20250920T080006Z
LAST-MODIFIED:20250920T080006Z
UID:1242-1759597200-1762279200@kulttuurikonttori.fi
SUMMARY:Cover-ups & teardowns näyttely - Timo Höyssä
DESCRIPTION:Peiteltyjä kalloja ja kokeellista keramiikkaa – Avajaiset 4.10. klo 17-19\, Tervetuloa! \nKuvataiteilija Timo Höyssän aiemmat näyttelyt ovat koostuneet enimmäkseen runsailla tekstiileillä päällystetyillä eläintein kalloista\, mutta Cover-ups and teardowns-näyttelyyn hän tuo kankaiden seuraksi myös kallojen puhtaita muotoja esille keramiikan avulla. Kulttuuri konttorin Konttorin Galleriaan Höyssä tuo viimeisimpiä tekstiiliveistoksiaan\, joissa hän on rakentanut eläinten kallojen päälle värikkäitä ja orgaanisen tyylisiä kuoseja. Näiden roikkuvien\, pursuavien ja pehmeiden muotojen seasta pilkistelee uudempia\, kovempia pintoja — riisuttuja keraamisia teoksia jotka muistuttavat\, niin katsojille kuin taiteilijalle itse\, mitä kerrosten alle on jäänyt. \nTimo Höyssä (s.1991) on Vesilahtelainen kuvataiteilija joka leikittelee teoksissaan tekstiilitaiteen ja eläinten kallojen yhdistelemisellä\, luoden uudenlaisia olentoja vanhojen roippeista. Viime vuosina hänellä on herännyt kiinnostus keramiikkaa kohtaan ja täten esitteleekin tämän syksyn näyttelyissään laajemmin kokeilujaan sen parissa. Cover-ups & teardowns on jatkoa Elokuun samannimiselle kokonaisuudelle Taidekeskus Ahjossa Joensuussa.  Hänen teoksiaan on voinut nähdä\, ja tulee vielä näkemään\, useissa yksityisnäyttelyissään sekä osana MOKA-taiteilijaryhmää.
URL:https://kulttuurikonttori.fi/kalenteri/cover-ups-teardowns-nayttely-timo-hoyssa/
ATTACH;FMTTYPE=image/jpeg:https://kulttuurikonttori.fi/wp-content/uploads/2025/09/Hoyssa-juliste-st.jpg
END:VEVENT
END:VCALENDAR