BEGIN:VCALENDAR
VERSION:2.0
PRODID:-//Kulttuurikonttori - ECPv6.9.1//NONSGML v1.0//EN
CALSCALE:GREGORIAN
METHOD:PUBLISH
X-WR-CALNAME:Kulttuurikonttori
X-ORIGINAL-URL:https://kulttuurikonttori.fi
X-WR-CALDESC:Events for Kulttuurikonttori
REFRESH-INTERVAL;VALUE=DURATION:PT1H
X-Robots-Tag:noindex
X-PUBLISHED-TTL:PT1H
BEGIN:VTIMEZONE
TZID:Europe/Helsinki
BEGIN:DAYLIGHT
TZOFFSETFROM:+0200
TZOFFSETTO:+0300
TZNAME:EEST
DTSTART:20250330T010000
END:DAYLIGHT
BEGIN:STANDARD
TZOFFSETFROM:+0300
TZOFFSETTO:+0200
TZNAME:EET
DTSTART:20251026T010000
END:STANDARD
END:VTIMEZONE
BEGIN:VEVENT
DTSTART;TZID=Europe/Helsinki:20251128T110000
DTEND;TZID=Europe/Helsinki:20251128T170000
DTSTAMP:20260424T161551
CREATED:20251125T081925Z
LAST-MODIFIED:20251125T081925Z
UID:1292-1764327600-1764349200@kulttuurikonttori.fi
SUMMARY:Joulumyyjäiset Kulttuurikonttorilla
DESCRIPTION:Tule hakemaan joulumieltä ja lahjaideoita Kulttuurikonttorin tunnelmallisiin joulumyyjäisiin!\n Käsitöitä\, herkkuja\, koruja\, taidetta kotiin\, kransseja ja paljon muuta ihanaa paikallista! \n Lukiokatu 16\, 13100 Hämeenlinna\n pe 28.11. klo 11–17\n la 29.11. klo 11–15 \n Lämpimästi tervetuloa koko perheen voimin – kahvikupponen\, hyvä mieli ja joulun taikaa taattu!
URL:https://kulttuurikonttori.fi/kalenteri/joulumyyjaiset-kulttuurikonttorilla/
END:VEVENT
BEGIN:VEVENT
DTSTART;TZID=Europe/Helsinki:20251128T180000
DTEND;TZID=Europe/Helsinki:20251128T210000
DTSTAMP:20260424T161551
CREATED:20251125T082543Z
LAST-MODIFIED:20251125T082543Z
UID:1297-1764352800-1764363600@kulttuurikonttori.fi
SUMMARY:Kulmaklubi
DESCRIPTION:Konttorin Kulman lauluntekijöiden ilta eli Kulmaklubi saa marraskuun klubille vieraaksi kaksi upeaa nuorta esiintyjää omien biisiensä kanssa\, kun Konttorin kulman valtaavat upeat nuoret artistit Roosa Vuorela sekä paikallinen Mirka-duo.
URL:https://kulttuurikonttori.fi/kalenteri/kulmaklubi-2/
CATEGORIES:Konttorin Kulma
END:VEVENT
END:VCALENDAR