BEGIN:VCALENDAR
VERSION:2.0
PRODID:-//Kulttuurikonttori - ECPv6.9.1//NONSGML v1.0//EN
CALSCALE:GREGORIAN
METHOD:PUBLISH
X-WR-CALNAME:Kulttuurikonttori
X-ORIGINAL-URL:https://kulttuurikonttori.fi
X-WR-CALDESC:Events for Kulttuurikonttori
REFRESH-INTERVAL;VALUE=DURATION:PT1H
X-Robots-Tag:noindex
X-PUBLISHED-TTL:PT1H
BEGIN:VTIMEZONE
TZID:Europe/Helsinki
BEGIN:DAYLIGHT
TZOFFSETFROM:+0200
TZOFFSETTO:+0300
TZNAME:EEST
DTSTART:20250330T010000
END:DAYLIGHT
BEGIN:STANDARD
TZOFFSETFROM:+0300
TZOFFSETTO:+0200
TZNAME:EET
DTSTART:20251026T010000
END:STANDARD
BEGIN:DAYLIGHT
TZOFFSETFROM:+0200
TZOFFSETTO:+0300
TZNAME:EEST
DTSTART:20260329T010000
END:DAYLIGHT
BEGIN:STANDARD
TZOFFSETFROM:+0300
TZOFFSETTO:+0200
TZNAME:EET
DTSTART:20261025T010000
END:STANDARD
BEGIN:DAYLIGHT
TZOFFSETFROM:+0200
TZOFFSETTO:+0300
TZNAME:EEST
DTSTART:20270328T010000
END:DAYLIGHT
BEGIN:STANDARD
TZOFFSETFROM:+0300
TZOFFSETTO:+0200
TZNAME:EET
DTSTART:20271031T010000
END:STANDARD
END:VTIMEZONE
BEGIN:VEVENT
DTSTART;TZID=Europe/Helsinki:20251004T170000
DTEND;TZID=Europe/Helsinki:20251104T180000
DTSTAMP:20260424T174501
CREATED:20250920T080006Z
LAST-MODIFIED:20250920T080006Z
UID:1242-1759597200-1762279200@kulttuurikonttori.fi
SUMMARY:Cover-ups & teardowns näyttely - Timo Höyssä
DESCRIPTION:Peiteltyjä kalloja ja kokeellista keramiikkaa – Avajaiset 4.10. klo 17-19\, Tervetuloa! \nKuvataiteilija Timo Höyssän aiemmat näyttelyt ovat koostuneet enimmäkseen runsailla tekstiileillä päällystetyillä eläintein kalloista\, mutta Cover-ups and teardowns-näyttelyyn hän tuo kankaiden seuraksi myös kallojen puhtaita muotoja esille keramiikan avulla. Kulttuuri konttorin Konttorin Galleriaan Höyssä tuo viimeisimpiä tekstiiliveistoksiaan\, joissa hän on rakentanut eläinten kallojen päälle värikkäitä ja orgaanisen tyylisiä kuoseja. Näiden roikkuvien\, pursuavien ja pehmeiden muotojen seasta pilkistelee uudempia\, kovempia pintoja — riisuttuja keraamisia teoksia jotka muistuttavat\, niin katsojille kuin taiteilijalle itse\, mitä kerrosten alle on jäänyt. \nTimo Höyssä (s.1991) on Vesilahtelainen kuvataiteilija joka leikittelee teoksissaan tekstiilitaiteen ja eläinten kallojen yhdistelemisellä\, luoden uudenlaisia olentoja vanhojen roippeista. Viime vuosina hänellä on herännyt kiinnostus keramiikkaa kohtaan ja täten esitteleekin tämän syksyn näyttelyissään laajemmin kokeilujaan sen parissa. Cover-ups & teardowns on jatkoa Elokuun samannimiselle kokonaisuudelle Taidekeskus Ahjossa Joensuussa.  Hänen teoksiaan on voinut nähdä\, ja tulee vielä näkemään\, useissa yksityisnäyttelyissään sekä osana MOKA-taiteilijaryhmää.
URL:https://kulttuurikonttori.fi/kalenteri/cover-ups-teardowns-nayttely-timo-hoyssa/
ATTACH;FMTTYPE=image/jpeg:https://kulttuurikonttori.fi/wp-content/uploads/2025/09/Hoyssa-juliste-st.jpg
END:VEVENT
BEGIN:VEVENT
DTSTART;TZID=Europe/Helsinki:20251104T180000
DTEND;TZID=Europe/Helsinki:20251104T190000
DTSTAMP:20260424T174501
CREATED:20250512T114235Z
LAST-MODIFIED:20250512T114235Z
UID:1044-1762279200-1762282800@kulttuurikonttori.fi
SUMMARY:Kaupunkiaktivismi tapahtumatuotannon lähtökohtana 2
DESCRIPTION:Miten tuotetaan onnistunut pientapahtuma (ja miten ei.)  Millainen rooli ruohonjuuritason aloitteilla ja kaupunkilaisten omalla aktiivisuudella on tapahtumien synnyssä? Miten tapahtuma voi olla myös teko\, kannanotto tai yhteisön rakentamisen väline? Mistä pientapahtuman tuotanto lähtee liikkeelle\, mitä sudenkuoppia kannattaa välttää ja miten rakentaa toimiva kokonaisuus ideasta toteutukseen. Janne Nieminen tarjoaa konkreettisia työkaluja\, esimerkkejä ja oppeja onnistuneista (ja vähemmän onnistuneista) tuotannoista. Luento sopii erityisesti niille\, jotka ovat kiinnostuneita järjestämään tapahtumia\, olipa kyseessä kulttuuri\, yhteisöllisyys tai aktivismi.\n\n Janne Nieminen on tapahtumatuotannon ammattilainen\, vapaa-ajan basisti ja joka toimii myös Hämeenlinnan kaupungin kulttuuripäällikkönä.
URL:https://kulttuurikonttori.fi/kalenteri/kaupunkiaktivismi-tapahtumatuotannon-lahtokohtana-2/
ATTACH;FMTTYPE=image/jpeg:https://kulttuurikonttori.fi/wp-content/uploads/2025/05/Janne-Nieminen-S.jpg
END:VEVENT
BEGIN:VEVENT
DTSTART;TZID=Europe/Helsinki:20251128T110000
DTEND;TZID=Europe/Helsinki:20251128T170000
DTSTAMP:20260424T174501
CREATED:20251125T081925Z
LAST-MODIFIED:20251125T081925Z
UID:1292-1764327600-1764349200@kulttuurikonttori.fi
SUMMARY:Joulumyyjäiset Kulttuurikonttorilla
DESCRIPTION:Tule hakemaan joulumieltä ja lahjaideoita Kulttuurikonttorin tunnelmallisiin joulumyyjäisiin!\n Käsitöitä\, herkkuja\, koruja\, taidetta kotiin\, kransseja ja paljon muuta ihanaa paikallista! \n Lukiokatu 16\, 13100 Hämeenlinna\n pe 28.11. klo 11–17\n la 29.11. klo 11–15 \n Lämpimästi tervetuloa koko perheen voimin – kahvikupponen\, hyvä mieli ja joulun taikaa taattu!
URL:https://kulttuurikonttori.fi/kalenteri/joulumyyjaiset-kulttuurikonttorilla/
END:VEVENT
BEGIN:VEVENT
DTSTART;TZID=Europe/Helsinki:20251128T180000
DTEND;TZID=Europe/Helsinki:20251128T210000
DTSTAMP:20260424T174501
CREATED:20251125T082543Z
LAST-MODIFIED:20251125T082543Z
UID:1297-1764352800-1764363600@kulttuurikonttori.fi
SUMMARY:Kulmaklubi
DESCRIPTION:Konttorin Kulman lauluntekijöiden ilta eli Kulmaklubi saa marraskuun klubille vieraaksi kaksi upeaa nuorta esiintyjää omien biisiensä kanssa\, kun Konttorin kulman valtaavat upeat nuoret artistit Roosa Vuorela sekä paikallinen Mirka-duo.
URL:https://kulttuurikonttori.fi/kalenteri/kulmaklubi-2/
CATEGORIES:Konttorin Kulma
END:VEVENT
BEGIN:VEVENT
DTSTART;TZID=Europe/Helsinki:20251129T110000
DTEND;TZID=Europe/Helsinki:20251129T150000
DTSTAMP:20260424T174501
CREATED:20251125T082122Z
LAST-MODIFIED:20251125T082149Z
UID:1294-1764414000-1764428400@kulttuurikonttori.fi
SUMMARY:Joulumyyjäiset Kulttuurikonttorilla
DESCRIPTION:Tule hakemaan joulumieltä ja lahjaideoita Kulttuurikonttorin tunnelmallisiin joulumyyjäisiin!\n Käsitöitä\, herkkuja\, koruja\, taidetta kotiin\, kransseja ja paljon muuta ihanaa paikallista! \n Lukiokatu 16\, 13100 Hämeenlinna\n pe 28.11. klo 11–17\n la 29.11. klo 11–15 \n Lämpimästi tervetuloa koko perheen voimin – kahvikupponen\, hyvä mieli ja joulun taika taattu!
URL:https://kulttuurikonttori.fi/kalenteri/joulumyyjaiset-kulttuurikonttorilla-2/
END:VEVENT
BEGIN:VEVENT
DTSTART;TZID=Europe/Helsinki:20251129T170000
DTEND;TZID=Europe/Helsinki:20251129T190000
DTSTAMP:20260424T174501
CREATED:20251125T081645Z
LAST-MODIFIED:20251125T081645Z
UID:1290-1764435600-1764442800@kulttuurikonttori.fi
SUMMARY:Näyttelyn avajaiset: Minna Salonen - Parallel World
DESCRIPTION:Tervetuloa Minna Salosen Parallel Worlds -näyttelyn avajaisiin! \n 
URL:https://kulttuurikonttori.fi/kalenteri/nayttelyn-avajaiset-minna-salonen-parallel-world/
CATEGORIES:Konttorin Galleria
END:VEVENT
BEGIN:VEVENT
DTSTART;TZID=Europe/Helsinki:20251130T110000
DTEND;TZID=Europe/Helsinki:20260106T180000
DTSTAMP:20260424T174501
CREATED:20251125T081348Z
LAST-MODIFIED:20251125T081348Z
UID:1288-1764500400-1767722400@kulttuurikonttori.fi
SUMMARY:Minna Salonen - Parallel World
DESCRIPTION:Minna Salonen on kuvataiteilija (Yamk)\, joka työskentelee maalauksen\, kolmiulotteisten kangasveistosten ja installaatioiden parissa. Näyttely Parallel World viittaa Salosen kokemuksiin autiotaloista. Rinnakkain elää kaksi maailmaa: kiireinen nykymaailma kännyköineen ja autiotalon maailma\, jossa kaikki hidastuu. Näyttelyssä näkyy se\, miten luonto ottaa valtaansa vanhan rakennuksen. Puut\, kasvit ja kukat valtaavat alaa romahtaneessa talossa. Lepakot\, perhoset ja ampiaiset asuttavat nyt taloa ihmisen sijaan.
URL:https://kulttuurikonttori.fi/kalenteri/minna-salonen-parallel-world/
CATEGORIES:Konttorin Galleria
END:VEVENT
BEGIN:VEVENT
DTSTART;TZID=Europe/Helsinki:20251212T180000
DTEND;TZID=Europe/Helsinki:20251212T210000
DTSTAMP:20260424T174501
CREATED:20250724T163126Z
LAST-MODIFIED:20250724T163126Z
UID:1181-1765562400-1765573200@kulttuurikonttori.fi
SUMMARY:Paint and wine
DESCRIPTION:Kurssilla maalataan akryylimaaleilla kankaalle. Jokainen saa maalata omanlaisensa teoksen ja rentoutua itse tuomansa lempijuomansa äärellä. Materiaalit sisältyvät kurssin hintaan. \nKurssi sopii myös ystäväporukan tai pienen työyhteisön pikkujoulun viettoon.
URL:https://kulttuurikonttori.fi/kalenteri/paint-and-wine/
CATEGORIES:KOnttorin kurssit
END:VEVENT
BEGIN:VEVENT
DTSTART;TZID=Europe/Helsinki:20260111T110000
DTEND;TZID=Europe/Helsinki:20260128T180000
DTSTAMP:20260424T174501
CREATED:20251125T080410Z
LAST-MODIFIED:20251210T070057Z
UID:1282-1768129200-1769623200@kulttuurikonttori.fi
SUMMARY:Kristiina Maria - Potretteja
DESCRIPTION:Kristiina Maria maalaa värikylläisiä ja ekspressiivisiä teoksia\, joissa tunteet ja tarinat saavat syvällisen muotonsa. Inspiraation lähteenä toimivat aistihavainnot\, sisäinen- ja ulkoinen maailma\, mielikuvitus\, minuus ja emootiot.\nKristiina Marian taiteellinen prosessi on intuitiivinen\, ja hänen teoksensa syntyvät hetken innoittamina\, luoden uniikkeja ja vahvoja visuaalisia elämyksiä. 
URL:https://kulttuurikonttori.fi/kalenteri/kristiina-maria-potretteja/
CATEGORIES:Konttorin Galleria
END:VEVENT
BEGIN:VEVENT
DTSTART;TZID=Europe/Helsinki:20260130T180000
DTEND;TZID=Europe/Helsinki:20260130T210000
DTSTAMP:20260424T174501
CREATED:20251125T082810Z
LAST-MODIFIED:20251229T122902Z
UID:1300-1769796000-1769806800@kulttuurikonttori.fi
SUMMARY:Taiteiden Talviyö Kulttuurikonttorilla
DESCRIPTION:Kulttuurikonttorilla on ovet auki Taiteiden talviyönä kello 21 asti! \nIllan ohjelmassa Kulmaklubi\, joka on lauluntekijöille ja lauluntekijämusiikista kiinnostuneille suunnattu klubi Kulttuurikonttorin tunnelmallisessa galleriassa. Klubia emännöi paikallinen laulaja-lauluntekijä Noo eli Noora Herranen. \nGalleriassa on esillä jurytetty yhteisnäyttely Ahdistus\, jossa eri taiteilijat tulkitsevat ahdistusta: Sen muotoja\, materiaalisuutta ja värejä. Näyttelyn on juryttänyt kuvataiteilija Minttu Saarinen. \nKonttorin käsityömyymälä ja taidelainaamo palvelevat koko illan.
URL:https://kulttuurikonttori.fi/kalenteri/taiteiden-talviyo-kulttuurikonttorilla/
END:VEVENT
BEGIN:VEVENT
DTSTART;TZID=Europe/Helsinki:20260201T110000
DTEND;TZID=Europe/Helsinki:20260224T180000
DTSTAMP:20260424T174501
CREATED:20251125T080900Z
LAST-MODIFIED:20251203T073102Z
UID:1286-1769943600-1771956000@kulttuurikonttori.fi
SUMMARY:Ahdistus - jurytetty yhteisnäyttely
DESCRIPTION:Ahdistus voi olla lamaannuttavaa\, aaltoilevaa\, pistävää\, hiljaista tai pysyvää. Se voi olla yhteiskunnallista\, henkilökohtaista\, ruumiillista tai näkymätöntä. Näyttelyssä eri taiteilijat tulkitsevat ahdistusta – sen muotoja\, materiaalisuutta ja värejä. Näyttelyn on juryttänyt kuvataiteilija Minttu Saarinen. \n 
URL:https://kulttuurikonttori.fi/kalenteri/ahdistus-jurytetty-yhteisnayttely/
CATEGORIES:Konttorin Galleria
END:VEVENT
BEGIN:VEVENT
DTSTART;TZID=Europe/Helsinki:20260227T180000
DTEND;TZID=Europe/Helsinki:20260227T210000
DTSTAMP:20260424T174501
CREATED:20251202T064704Z
LAST-MODIFIED:20251202T065003Z
UID:1326-1772215200-1772226000@kulttuurikonttori.fi
SUMMARY:Kulmaklubi
DESCRIPTION:Lauluntekijöille ja lauluntekijämusasta kiinnostuneille suunnattu klubi Kulttuurikonttorin tunnelmallisessa galleriassa. \n 
URL:https://kulttuurikonttori.fi/kalenteri/kulmaklubi-3/
CATEGORIES:Konttorin Kulma
END:VEVENT
BEGIN:VEVENT
DTSTART;TZID=Europe/Helsinki:20260301T110000
DTEND;TZID=Europe/Helsinki:20260324T180000
DTSTAMP:20260424T174501
CREATED:20251126T061852Z
LAST-MODIFIED:20251126T062440Z
UID:1302-1772362800-1774375200@kulttuurikonttori.fi
SUMMARY:Riikka Kronström-Johansson
DESCRIPTION:Riikka Kronström-Johanssonin näyttely Konttorin Galleriassa
URL:https://kulttuurikonttori.fi/kalenteri/riikka-kronstrom-johansson/
CATEGORIES:Konttorin Galleria
END:VEVENT
BEGIN:VEVENT
DTSTART;TZID=Europe/Helsinki:20260327T180000
DTEND;TZID=Europe/Helsinki:20260327T210000
DTSTAMP:20260424T174501
CREATED:20251202T064855Z
LAST-MODIFIED:20251202T064921Z
UID:1329-1774634400-1774645200@kulttuurikonttori.fi
SUMMARY:Kulmaklubi
DESCRIPTION:Lauluntekijöille ja lauluntekijämusasta kiinnostuneille suunnattu klubi Kulttuurikonttorin tunnelmallisessa galleriassa. \n 
URL:https://kulttuurikonttori.fi/kalenteri/kulmaklubi-4/
CATEGORIES:Konttorin Kulma
END:VEVENT
BEGIN:VEVENT
DTSTART;TZID=Europe/Helsinki:20260329T110000
DTEND;TZID=Europe/Helsinki:20260421T180000
DTSTAMP:20260424T174501
CREATED:20251126T062054Z
LAST-MODIFIED:20251126T062533Z
UID:1305-1774782000-1776794400@kulttuurikonttori.fi
SUMMARY:Else Takkunen
DESCRIPTION:Else Takkusen näyttely Konttorin galleriassa
URL:https://kulttuurikonttori.fi/kalenteri/else-takkunen/
CATEGORIES:Konttorin Galleria
END:VEVENT
BEGIN:VEVENT
DTSTART;TZID=Europe/Helsinki:20260424T180000
DTEND;TZID=Europe/Helsinki:20260424T210000
DTSTAMP:20260424T174501
CREATED:20251202T065106Z
LAST-MODIFIED:20251202T065106Z
UID:1333-1777053600-1777064400@kulttuurikonttori.fi
SUMMARY:Kulmaklubi
DESCRIPTION:Lauluntekijöille ja lauluntekijämusasta kiinnostuneille suunnattu klubi Kulttuurikonttorin tunnelmallisessa galleriassa.
URL:https://kulttuurikonttori.fi/kalenteri/kulmaklubi-5/
CATEGORIES:Konttorin Kulma
END:VEVENT
BEGIN:VEVENT
DTSTART;TZID=Europe/Helsinki:20260426T110000
DTEND;TZID=Europe/Helsinki:20260519T180000
DTSTAMP:20260424T174501
CREATED:20251126T062913Z
LAST-MODIFIED:20251126T062913Z
UID:1308-1777201200-1779213600@kulttuurikonttori.fi
SUMMARY:Konttorin työhuonenäyttely
DESCRIPTION:Kulttuurikonttorilla työskentelevien taiteilijoiden yhteisnäyttely
URL:https://kulttuurikonttori.fi/kalenteri/konttorin-tyohuonenayttely/
CATEGORIES:Konttorin Galleria
END:VEVENT
BEGIN:VEVENT
DTSTART;TZID=Europe/Helsinki:20260524T110000
DTEND;TZID=Europe/Helsinki:20260616T180000
DTSTAMP:20260424T174501
CREATED:20251126T063417Z
LAST-MODIFIED:20251126T063417Z
UID:1310-1779620400-1781632800@kulttuurikonttori.fi
SUMMARY:Malm & Tähtinen
DESCRIPTION:Näyttely: taiteilijaryhmä Malm & Tähtinen
URL:https://kulttuurikonttori.fi/kalenteri/malm-tahtinen/
CATEGORIES:Konttorin Galleria
END:VEVENT
BEGIN:VEVENT
DTSTART;TZID=Europe/Helsinki:20260705T110000
DTEND;TZID=Europe/Helsinki:20260728T180000
DTSTAMP:20260424T174501
CREATED:20251126T063619Z
LAST-MODIFIED:20251126T063619Z
UID:1312-1783249200-1785261600@kulttuurikonttori.fi
SUMMARY:Katja-Maaria Kaskinen
DESCRIPTION:Taidemaalari Katja-Maaria Kaskisen näyttely
URL:https://kulttuurikonttori.fi/kalenteri/katja-maaria-kaskinen/
CATEGORIES:Konttorin Galleria
END:VEVENT
BEGIN:VEVENT
DTSTART;TZID=Europe/Helsinki:20260802T110000
DTEND;TZID=Europe/Helsinki:20260825T180000
DTSTAMP:20260424T174501
CREATED:20251202T061728Z
LAST-MODIFIED:20251202T061728Z
UID:1315-1785668400-1787680800@kulttuurikonttori.fi
SUMMARY:Laura Kansanen-Stavale
DESCRIPTION:Kuvataiteilija Laura Kansanen-Stavalen näyttely Konttorin galleriassa
URL:https://kulttuurikonttori.fi/kalenteri/laura-kansanen-stavale/
CATEGORIES:Konttorin Galleria
END:VEVENT
BEGIN:VEVENT
DTSTART;TZID=Europe/Helsinki:20260830T110000
DTEND;TZID=Europe/Helsinki:20260922T180000
DTSTAMP:20260424T174501
CREATED:20251202T061919Z
LAST-MODIFIED:20251202T062021Z
UID:1317-1788087600-1790100000@kulttuurikonttori.fi
SUMMARY:Jurytetty näyttely
DESCRIPTION:Jurytetty näyttely\, lisätietoa tulossa
URL:https://kulttuurikonttori.fi/kalenteri/jurytetty-nayttely/
CATEGORIES:Konttorin Galleria
END:VEVENT
BEGIN:VEVENT
DTSTART;TZID=Europe/Helsinki:20260927T110000
DTEND;TZID=Europe/Helsinki:20261020T180000
DTSTAMP:20260424T174501
CREATED:20251202T062204Z
LAST-MODIFIED:20251202T062204Z
UID:1319-1790506800-1792519200@kulttuurikonttori.fi
SUMMARY:Kristiina Lähde & Sirpa Suominen
DESCRIPTION:Konttorin galleriassa kahden taiteilijan näyttely: Kristiina Lähde & Sirpa Suominen
URL:https://kulttuurikonttori.fi/kalenteri/kristiina-lahde-sirpa-suominen/
CATEGORIES:Konttorin Galleria
END:VEVENT
BEGIN:VEVENT
DTSTART;TZID=Europe/Helsinki:20261025T110000
DTEND;TZID=Europe/Helsinki:20261117T180000
DTSTAMP:20260424T174501
CREATED:20251202T062451Z
LAST-MODIFIED:20251202T062729Z
UID:1321-1792926000-1794938400@kulttuurikonttori.fi
SUMMARY:Jouni Sarpola
DESCRIPTION:Kuvanveistäjä Jouni Sarpolan näyttely Konttorin galleriassa
URL:https://kulttuurikonttori.fi/kalenteri/jouni-sarpola/
CATEGORIES:Konttorin Galleria
END:VEVENT
BEGIN:VEVENT
DTSTART;TZID=Europe/Helsinki:20261122T110000
DTEND;TZID=Europe/Helsinki:20261215T180000
DTSTAMP:20260424T174501
CREATED:20251202T062652Z
LAST-MODIFIED:20251202T062652Z
UID:1323-1795345200-1797357600@kulttuurikonttori.fi
SUMMARY:Mika Koskinen
DESCRIPTION:Taiteilija Mika Koskisen näyttely Konttorin galleriassa
URL:https://kulttuurikonttori.fi/kalenteri/mika-koskinen/
CATEGORIES:Konttorin Galleria
END:VEVENT
BEGIN:VEVENT
DTSTART;TZID=Europe/Helsinki:20270529T180000
DTEND;TZID=Europe/Helsinki:20270529T210000
DTSTAMP:20260424T174501
CREATED:20251202T065159Z
LAST-MODIFIED:20251202T065159Z
UID:1335-1811613600-1811624400@kulttuurikonttori.fi
SUMMARY:Kulmaklubi
DESCRIPTION:Lauluntekijöille ja lauluntekijämusasta kiinnostuneille suunnattu klubi Kulttuurikonttorin tunnelmallisessa galleriassa.
URL:https://kulttuurikonttori.fi/kalenteri/kulmaklubi-6/
CATEGORIES:Konttorin Kulma
END:VEVENT
END:VCALENDAR