BEGIN:VCALENDAR
VERSION:2.0
PRODID:-//Kulttuurikonttori - ECPv6.9.1//NONSGML v1.0//EN
CALSCALE:GREGORIAN
METHOD:PUBLISH
X-WR-CALNAME:Kulttuurikonttori
X-ORIGINAL-URL:https://kulttuurikonttori.fi
X-WR-CALDESC:Events for Kulttuurikonttori
REFRESH-INTERVAL;VALUE=DURATION:PT1H
X-Robots-Tag:noindex
X-PUBLISHED-TTL:PT1H
BEGIN:VTIMEZONE
TZID:Europe/Helsinki
BEGIN:DAYLIGHT
TZOFFSETFROM:+0200
TZOFFSETTO:+0300
TZNAME:EEST
DTSTART:20250330T010000
END:DAYLIGHT
BEGIN:STANDARD
TZOFFSETFROM:+0300
TZOFFSETTO:+0200
TZNAME:EET
DTSTART:20251026T010000
END:STANDARD
TZID:UTC
BEGIN:STANDARD
TZOFFSETFROM:+0000
TZOFFSETTO:+0000
TZNAME:UTC
DTSTART:20250101T000000
END:STANDARD
END:VTIMEZONE
BEGIN:VEVENT
DTSTART;TZID=Europe/Helsinki:20250503T180000
DTEND;TZID=Europe/Helsinki:20250503T210000
DTSTAMP:20260425T183020
CREATED:20250303T185623Z
LAST-MODIFIED:20250422T095121Z
UID:640-1746295200-1746306000@kulttuurikonttori.fi
SUMMARY:Äänimaljamaalausta
DESCRIPTION:Maalaa äänimaljojen herättämiä mielikuvia. Kurssilla maalataan kaksi maalausta paperille ja tehdään kaksi äänimaljarentoutusta. \nRento ja mukava kurssi\, jossa saat toteuttaa vapaasti omaa visiotasi. \nMateriaalit sisältyvät hintaan
URL:https://kulttuurikonttori.fi/kalenteri/aanimaljamaalausta-2/
CATEGORIES:KOnttorin kurssit
ATTACH;FMTTYPE=image/jpeg:https://kulttuurikonttori.fi/wp-content/uploads/2025/03/Aanimaljat-0305.jpg
END:VEVENT
BEGIN:VEVENT
DTSTART;TZID=Europe/Helsinki:20250412T110000
DTEND;TZID=Europe/Helsinki:20250412T120000
DTSTAMP:20260425T183020
CREATED:20250211T143557Z
LAST-MODIFIED:20250211T143557Z
UID:599-1744455600-1744459200@kulttuurikonttori.fi
SUMMARY:Konttorin kierros
DESCRIPTION:Tule kuulemaan joka kuukausi vaihtuvasta näyttelystä\, lainaamon taiteilijasta sekä myymälän käsityöläisestä.\n10 e opastusmaksuun sisältyy kahvi/tee ja pientä purtavaa. \nKierros kestää noin tunnin\, jonka jälkeen on mahdollisuus kysyä lisää ja keskustella päivän aiheista.
URL:https://kulttuurikonttori.fi/kalenteri/konttorin-kierros-3/
LOCATION:Konttorin kierros\, Lukiokatu 16\, Hämeenlinna\, 13100\, Finland
CATEGORIES:Konttorin kierros
END:VEVENT
BEGIN:VEVENT
DTSTART;TZID=Europe/Helsinki:20250411T180000
DTEND;TZID=Europe/Helsinki:20250411T210000
DTSTAMP:20260425T183020
CREATED:20250211T144636Z
LAST-MODIFIED:20250211T144636Z
UID:607-1744394400-1744405200@kulttuurikonttori.fi
SUMMARY:Kulma Klubi -Folk-proge pyörremyrsky
DESCRIPTION:Emilia Tuovila & Väijytys (solo) \nKulmaklubi on lauluntekijöille ja lauluntekijämusasta kiinnostuneille suunnattu uusi klubi Kulttuurikonttorin tunnelmallisella kulmalavalla. Klubia emännöi paikallinen Laulaja-lauluntekijä Noo eli Noora Herranen. \nLuvassa on aina 1-2 esiintyjää sekä open stage -osuus\, jossa kuka tahansa voi esittää oman laulunsa. Paikalla on kiippari\, pieni äänentoisto ja kitara\, joita saavat esiintyjät käyttää.
URL:https://kulttuurikonttori.fi/kalenteri/kulma-klubi-folk-proge-pyorremyrsky/
LOCATION:Konttorin Kulma\, Lukiokatu 16\, Hämeenlinna\, 13100\, Finland
CATEGORIES:Konttorin Kulma
END:VEVENT
BEGIN:VEVENT
DTSTART;TZID=Europe/Helsinki:20250406T100000
DTEND;TZID=Europe/Helsinki:20250406T130000
DTSTAMP:20260425T183020
CREATED:20250303T185510Z
LAST-MODIFIED:20250303T185510Z
UID:638-1743933600-1743944400@kulttuurikonttori.fi
SUMMARY:Äänimaljamaalausta
DESCRIPTION:Maalaa äänimaljojen herättämiä mielikuvia. Kurssilla maalataan kaksi maalausta paperille ja tehdään kaksi äänimaljarentoutusta. \nRento ja mukava kurssi\, jossa saat toteuttaa vapaasti omaa visiotasi. \nMateriaalit sisältyvät hintaan.
URL:https://kulttuurikonttori.fi/kalenteri/aanimaljamaalausta/
CATEGORIES:KOnttorin kurssit
END:VEVENT
BEGIN:VEVENT
DTSTART;TZID=Europe/Helsinki:20250405T080000
DTEND;TZID=Europe/Helsinki:20250405T140000
DTSTAMP:20260425T183020
CREATED:20250303T185232Z
LAST-MODIFIED:20250303T185232Z
UID:636-1743840000-1743861600@kulttuurikonttori.fi
SUMMARY:Omakuva - työpaja
DESCRIPTION:Tule maalaamaan omakuva vanhojen mestareiden jalanjäljissä! Kurssilla et tarvitse aiempaa osaamista. Omakuva on mielenmaisema ja kuvaa sitä\, miten sillä hetkellä itsesi näet. \nKurssi on hauska ja rento tapa pohtia ihmisenä olemista\, omakuvaa ja omaa minäkuvaa. \nMateriaalit sisältyvät kurssin hintaan.
URL:https://kulttuurikonttori.fi/kalenteri/omakuva-tyopaja/
CATEGORIES:KOnttorin kurssit
END:VEVENT
BEGIN:VEVENT
DTSTART;TZID=UTC:20250401T180000
DTEND;TZID=UTC:20250401T190000
DTSTAMP:20260425T183020
CREATED:20241229T030850Z
LAST-MODIFIED:20241229T030850Z
UID:505-1743530400-1743534000@kulttuurikonttori.fi
SUMMARY:Kulttuurialan moninainen työ
DESCRIPTION:Jokaisen kuukauden ensimmäinen tiistai järjestetään toripäivän kunniaksi illalla taidealan ammatteihin ja ammatilaisuuteen liittyvä luento. \n  \nHanna Tuominen\, Kulttuurialan moninainen työ
URL:https://kulttuurikonttori.fi/kalenteri/kulttuurialan-moninainen-tyo/
LOCATION:Luennot\, Lukiokatu 16\, Hämeenlinna\, 13100\, Finland
END:VEVENT
BEGIN:VEVENT
DTSTART;TZID=UTC:20250329T100000
DTEND;TZID=UTC:20250330T150000
DTSTAMP:20260425T183020
CREATED:20250125T112205Z
LAST-MODIFIED:20250125T112205Z
UID:566-1743242400-1743346800@kulttuurikonttori.fi
SUMMARY:Vanha mielikolttu uuteen muotoon!
DESCRIPTION:Kahden päivän intensiivikurssilla loihditaan vanha vaate uuteen kukoistukseen\, taiotaan \nuseammasta vanhasta koltusta yksi uusi\, muutetaan t-paidat huppariksi tai potkuhousut \ntorkkupeitoksi\, mahdollisuudet ovat rajattomat. Opit hyödyntämään vanhan vaatteen uuden \ntuotteen materiaaliksi\, muokkaamaan epäsopivan vaatteen sopivaksi\, loihtimaan kulahtaneista \nkoltuista häikäiseviä luomuksia\, vain mielikuvitus on rajana. \nTarvitset mukaasi kangassakset\, vanhoja vaatteita\, joita haluat muokata tai käyttää materiaalina ja \nompelukoneen ja/tai saumurin mikäli mahdollista. Lainakoneita löytyy tarvittaessa muutama. \nMateriaaleja löytyy myös paikan päältä\, jokaista mahdollisesti tarvitsemaasi tilkkua ei tarvitse \nlöytää etukäteen. \nKurssille mahtuu kuusi henkilöä. \n29.–30.3. \nla klo 10–15 \nsu klo 10–15 \nhinta 95e
URL:https://kulttuurikonttori.fi/kalenteri/vanha-mielikolttu-uuteen-muotoon/
END:VEVENT
BEGIN:VEVENT
DTSTART;TZID=Europe/Helsinki:20250308T110000
DTEND;TZID=Europe/Helsinki:20250308T120000
DTSTAMP:20260425T183020
CREATED:20250211T143406Z
LAST-MODIFIED:20250211T143406Z
UID:597-1741431600-1741435200@kulttuurikonttori.fi
SUMMARY:Konttorin kierros
DESCRIPTION:Tule kuulemaan joka kuukausi vaihtuvasta näyttelystä\, lainaamon taiteilijasta sekä myymälän käsityöläisestä.\n10 e opastusmaksuun sisältyy kahvi/tee ja pientä purtavaa. \nKierros kestää noin tunnin\, jonka jälkeen on mahdollisuus kysyä lisää ja keskustella päivän aiheista.
URL:https://kulttuurikonttori.fi/kalenteri/konttorin-kierros-2/
CATEGORIES:Konttorin Galleria,Konttorin kierros,Konttorin Kulma
END:VEVENT
BEGIN:VEVENT
DTSTART;TZID=UTC:20250302T100000
DTEND;TZID=UTC:20250302T130000
DTSTAMP:20260425T183020
CREATED:20250125T111923Z
LAST-MODIFIED:20250125T111923Z
UID:562-1740909600-1740920400@kulttuurikonttori.fi
SUMMARY:Äänimaljoja ja maalausta
DESCRIPTION:Äänimaljoja ja maalausta \nMaalataan äänimaljojen tuomia tunnelmia. Tehdään ensin äänimaljarentoutus\, jonka jälkeen maalataan äänimaljojen herättämiä mielikuvia. \nKäytetään akryyli- tai vesivärejä paperille. \nSisältää materiaalit \nSunnuntaina 2.3. klo 10-13 \nKulttuurikonttorilla \nhinta 48e /hlö \nilmoittaudu viimeistään 17.2. \nkulttuurikonttori(@)gmail.com
URL:https://kulttuurikonttori.fi/kalenteri/aanimaljoja-ja-maalausta/
END:VEVENT
BEGIN:VEVENT
DTSTART;TZID=UTC:20250228T180000
DTEND;TZID=UTC:20250228T200000
DTSTAMP:20260425T183020
CREATED:20250106T163453Z
LAST-MODIFIED:20250211T144402Z
UID:523-1740765600-1740772800@kulttuurikonttori.fi
SUMMARY:Kulmaklubi - (hyvät) pahat ja eteeriset
DESCRIPTION:Pahat äänet + OU \nKulmaklubi on lauluntekijöille ja lauluntekijämusasta kiinnostuneille suunnattu uusi klubi Kulttuurikonttorin tunnelmallisella kulmalavalla. Klubia emännöi paikallinen Laulaja-lauluntekijä Noo eli Noora Herranen. \nluvassa on aina 1-2 esiintyjää sekä open stage -osuus\, jossa kuka tahansa voi esittää oman laulunsa. Paikalla on kiippari\, pieni äänentoisto ja kitara\, joita saavat esiintyjät käyttää.
URL:https://kulttuurikonttori.fi/kalenteri/kulmaklubi/
LOCATION:Konttorin Kulma\, Lukiokatu 16\, Hämeenlinna\, 13100\, Finland
END:VEVENT
BEGIN:VEVENT
DTSTART;TZID=UTC:20250222T110000
DTEND;TZID=UTC:20250222T143000
DTSTAMP:20260425T183020
CREATED:20250125T111820Z
LAST-MODIFIED:20250125T111820Z
UID:560-1740222000-1740234600@kulttuurikonttori.fi
SUMMARY:Kurssi: Muotokuva lemmikistäsi
DESCRIPTION:Hauska ja rento maalauskurssi\, jossa maalataan sinulle tärkeän lemmikin muotokuva!\nKurssilla painotetaan naivistista ilmaisua\, kirkkaita värejä ja hauskaa tekemistä. \nKurssilla maalataan akryylimaaleilla pieni maalaus. Tuo mukanasi kuva lemmikistä\, jossa kasvot tulevat hyvin esiin. Maalit\, siveltimet ja yksi pieni maalauspohja sisältyvät hintaan. Saat tuoda myös omat maalit mukanasi. \nLauantaina 22.2. klo 11-14\nKulttuurikonttorilla\nhinta 48 euroa/ henkilö\nilmoittaudu viimeistään 15.2. kulttuuritkonttori(@)gmail.com\nKurssilla ei ole ikärajaa\, myös perheen kanssa voi tulla maalaamaan \nMax osallistujamäärä 8 hlö \nSis kahvi/tee ja pientä purtavaa\, omat eväät mukaan
URL:https://kulttuurikonttori.fi/kalenteri/kurssi-muotokuva-lemmikistasi/
END:VEVENT
BEGIN:VEVENT
DTSTART;TZID=Europe/Helsinki:20250215T110000
DTEND;TZID=Europe/Helsinki:20250215T120000
DTSTAMP:20260425T183020
CREATED:20250211T142857Z
LAST-MODIFIED:20250211T142857Z
UID:595-1739617200-1739620800@kulttuurikonttori.fi
SUMMARY:Konttorin kierros
DESCRIPTION:Tule kuulemaan joka kuukausi vaihtuvasta Konttorin gallerian näyttelystä\, lainaamon taiteilijasta sekä myymälän käsityöläisestä.\n10 e opastusmaksuun sisältyy kahvi/tee ja pientä purtavaa. \nKierros kestää noin tunnin\, jonka jälkeen on mahdollisuus kysyä lisää ja keskustella päivän aiheista.
URL:https://kulttuurikonttori.fi/kalenteri/konttorin-kierros/
END:VEVENT
BEGIN:VEVENT
DTSTART;TZID=UTC:20250204T180000
DTEND;TZID=UTC:20250204T190000
DTSTAMP:20260425T183020
CREATED:20241229T030501Z
LAST-MODIFIED:20241229T030501Z
UID:499-1738692000-1738695600@kulttuurikonttori.fi
SUMMARY:Luento: taidetyöläisen erilaiset pääomat
DESCRIPTION:Jokaisen kuukauden ensimmäinen tiistai järjestetään toripäivän kunniaksi illalla taidealan ammatteihin ja ammatilaisuuteen liittyvä luento. \nTanssi- ja performanssitaiteilija Salla Nieminen\, taidetyöläisen erilaiset pääomat
URL:https://kulttuurikonttori.fi/kalenteri/luento-taidetyolaisen-erilaiset-paaomat/
LOCATION:Luennot\, Lukiokatu 16\, Hämeenlinna\, 13100\, Finland
END:VEVENT
BEGIN:VEVENT
DTSTART;TZID=UTC:20250131T170000
DTEND;TZID=UTC:20250131T210000
DTSTAMP:20260425T183020
CREATED:20241203T050513Z
LAST-MODIFIED:20250106T163057Z
UID:467-1738342800-1738357200@kulttuurikonttori.fi
SUMMARY:Konttorin Kulmaklubi
DESCRIPTION:Kulmaklubi on lauluntekijöille ja lauluntekijämusasta kiinnostuneille suunnattu uusi klubi Kulttuurikonttorin tunnelmallisella kulmalavalla. Klubia emännöi paikallinen Laulaja-lauluntekijä Noo eli Noora Herranen. Avajaisklubia vietetään Talvisen taiteiden yön yhteydessä 31.1. klo 17-21. Vapaa pääsy! \nKevään klubit julkaistaan avajaisissa. Jatkossa luvassa on aina 1-2 esiintyjää sekä open stage -osuus\, jossa kuka tahansa voi esittää oman laulunsa. Paikalla on kiippari\, pieni äänentoisto ja kitara\, joita saavat esiintyjät käyttää. \nklo 17 pop up kahvio auki\nklo 17.30 Pisko A\nklo 18 Saana Kettu\nklo 18.30 Noo\ntauko (piano pois)\nklo 19.30 Juuso\nklo 20.00 Kaski Savuaa\nklo 21 ovet kiinni
URL:https://kulttuurikonttori.fi/kalenteri/tammikuun-taiteiden-yo/
END:VEVENT
BEGIN:VEVENT
DTSTART;TZID=UTC:20250103T170000
DTEND;TZID=UTC:20250103T210000
DTSTAMP:20260425T183020
CREATED:20241126T044833Z
LAST-MODIFIED:20241127T032312Z
UID:433-1735923600-1735938000@kulttuurikonttori.fi
SUMMARY:Kulttuurikonttorin avajaiset
DESCRIPTION:Kulttuurikonttori avataan 3.1.2.25 Samana päivänä avataan myös Konttorin ensimmäinen näyttely\, joka on kaikille avoin jurytettu yhteisnäyttely. \n 
URL:https://kulttuurikonttori.fi/kalenteri/kulttuurikonttorin-avajaiset/
LOCATION:Kulttuurikonttorin avajaiset\, Lukiokatu 16\, Hämeenlinna\, Finland
END:VEVENT
END:VCALENDAR