BEGIN:VCALENDAR
VERSION:2.0
PRODID:-//Kulttuurikonttori - ECPv6.9.1//NONSGML v1.0//EN
CALSCALE:GREGORIAN
METHOD:PUBLISH
X-ORIGINAL-URL:https://kulttuurikonttori.fi
X-WR-CALDESC:Events for Kulttuurikonttori
REFRESH-INTERVAL;VALUE=DURATION:PT1H
X-Robots-Tag:noindex
X-PUBLISHED-TTL:PT1H
BEGIN:VTIMEZONE
TZID:Europe/Helsinki
BEGIN:DAYLIGHT
TZOFFSETFROM:+0200
TZOFFSETTO:+0300
TZNAME:EEST
DTSTART:20250330T010000
END:DAYLIGHT
BEGIN:STANDARD
TZOFFSETFROM:+0300
TZOFFSETTO:+0200
TZNAME:EET
DTSTART:20251026T010000
END:STANDARD
END:VTIMEZONE
BEGIN:VEVENT
DTSTART;TZID=Europe/Helsinki:20250809T170000
DTEND;TZID=Europe/Helsinki:20250902T180000
DTSTAMP:20260424T174330
CREATED:20250718T110130Z
LAST-MODIFIED:20250718T110130Z
UID:1175-1754758800-1756836000@kulttuurikonttori.fi
SUMMARY:Tytti Heikkilän näyttely Kesäparatiisit
DESCRIPTION:Tervetuloa avajaisiin la 9.8. klo 17 – 19 – Avajaisten yhteydessä Antti Vuorenmaan kitaramusiikkia \nTytti Heikkilän värikylläisissä öljymaalauksissa luonnonmaisema on elinvoimainen\, tarinallinen ja tunnelatautunut tila.  Heikkilä rakentaa maalauksiinsa paikkoja\, joissa yhdistyvät muistot\, havainnot\, vaikutelmat ja mielikuvituksen tuottamat näyt. Ajatus figuurista maisemassa tarjoaa taiteilijan työskentelylle viitekehyksen\, jonka sisällä hän lähtee etenemään kiinnittäen paljon huomiota tilallisuuteen ja värien vuorovaikutukseen. \nTytti Heikkilä on Vapaasta Taidekoulusta vuonna 2019 valmistunut taidemaalari\, jonka teoksia on mm. Kansallisgallerian kokoelmissa.  Kesäparatiisit on hänen 12. yksityisnäyttelynsä.
URL:https://kulttuurikonttori.fi/kalenteri/tytti-heikkilan-nayttely-kesaparatiisit/
ATTACH;FMTTYPE=image/jpeg:https://kulttuurikonttori.fi/wp-content/uploads/2025/07/Heikkila-et-Vuorenmaa-st.jpg
END:VEVENT
BEGIN:VEVENT
DTSTART;TZID=Europe/Helsinki:20250902T180000
DTEND;TZID=Europe/Helsinki:20250902T190000
DTSTAMP:20260424T174330
CREATED:20250512T113518Z
LAST-MODIFIED:20250512T113518Z
UID:1039-1756836000-1756839600@kulttuurikonttori.fi
SUMMARY:Kaupunkiaktivismi tapahtumatuotannon lähtökohtana. Miten tuotetaan onnistunut pientapahtuma (ja miten ei.)
DESCRIPTION:Millainen rooli ruohonjuuritason aloitteilla ja kaupunkilaisten omalla aktiivisuudella on tapahtumien synnyssä? Miten tapahtuma voi olla myös teko\, kannanotto tai yhteisön rakentamisen väline? Mistä pientapahtuman tuotanto lähtee liikkeelle\, mitä sudenkuoppia kannattaa välttää ja miten rakentaa toimiva kokonaisuus ideasta toteutukseen. Janne Nieminen tarjoaa konkreettisia työkaluja\, esimerkkejä ja oppeja onnistuneista (ja vähemmän onnistuneista) tuotannoista.\n\n Janne Nieminen on tapahtumatuotannon ammattilainen\, vapaa-ajan basisti joka toimii myös Hämeenlinnan kaupungin kulttuuripäällikkönä.
URL:https://kulttuurikonttori.fi/kalenteri/kaupunkiaktivismi-tapahtumatuotannon-lahtokohtana-miten-tuotetaan-onnistunut-pientapahtuma-ja-miten-ei/
ATTACH;FMTTYPE=image/jpeg:https://kulttuurikonttori.fi/wp-content/uploads/2025/05/Janne-Nieminen-S.jpg
END:VEVENT
BEGIN:VEVENT
DTSTART;TZID=Europe/Helsinki:20250903T180000
DTEND;TZID=Europe/Helsinki:20250904T210000
DTSTAMP:20260424T174330
CREATED:20250724T163439Z
LAST-MODIFIED:20250727T100737Z
UID:1186-1756922400-1757019600@kulttuurikonttori.fi
SUMMARY:Brasilialaisen maalauksen kurssi
DESCRIPTION:Brasilialaisen akryylimaalauksen lyhytkurssi jälleen täällä!\nKurssilla opit käyttämään värejä tilallisuuden luomiseen ja perehdyt brasilialaiseen tapaan maalata akryylimaaleilla.\nOpettajana brasilialainen taidemaalari Kelyne Reis.\n\n\nKurssi kokoontuu ke 3.9. ja to 4.9. klo 18-21 Kulttuurikonttorilla\, Lukiokatu 16.\n\n\nKurssi on englanninkielinen mutta tulkkaus on saatavilla\,\nKurssin hinta 60e \, Kaputan jäsenille 50e. maksutiedot saat ilmoittautumisen yhteydessä.\n\n\nilmoittaudu kulttuurikonttori@gmail.com 20.8.2025 mennessä
URL:https://kulttuurikonttori.fi/kalenteri/brasilialaisen-maalauksen-kurssi/
CATEGORIES:KOnttorin kurssit
ATTACH;FMTTYPE=image/jpeg:https://kulttuurikonttori.fi/wp-content/uploads/2025/07/kelynen-kurssi.jpg
END:VEVENT
BEGIN:VEVENT
DTSTART;TZID=Europe/Helsinki:20250906T170000
DTEND;TZID=Europe/Helsinki:20250930T180000
DTSTAMP:20260424T174330
CREATED:20250820T080309Z
LAST-MODIFIED:20250820T080309Z
UID:1210-1757178000-1759255200@kulttuurikonttori.fi
SUMMARY:Figuratiivista mättöä/Abstraktia huttua – näyttely Ismo Jokiaho
DESCRIPTION:Figuratiivista mättöä/Abstraktia huttua – näyttely Kulttuuri Konttorin galleriassa\n7.9.2025 – 30.9 .2025 \nNäyttely avoinna maanantaista sunnuntaihin kello 11–18. Tervetuloa!\n_________________________________________________________________ \n  \n”Figuratiivinen mättö/Abstrakti huttu” näyttelyn nimenä voi kuulostaa satunnaiselta yhdistelmältä sanoja\, mutta herättää varmasti erilaisia mielikuvia ja tunteita! \nFiguratiivinen mättö ja abstrakti huttu kuvaavat kahta hyvin erilaista taiteellista ilmaisutapaa\, jotka molemmat yhdistyvät teoksissani saumattomasti siten\, että molemmat tavat teoksissa inspiroivat toisiaan luoden mielenkiintoisia vuorovaikutuksia. \nFiguratiivinen mättö viittaa runsaisiin ja voimakkaisiin visuaalisiin elementteihin\, jotka kertovat tarinaa teoksessa. Abstrakti huttu taas kuvastaa teoksen kaaosta\, vapautta ja luovuutta puhtaan avoimesti\, keskittyen enemmänkin teoksen väreihin\, muotoihin ja tunneilmaisuun ilman selkeää esitystä \,viittaussuhteita tai varsinaista tunnistettavaa muotoa. Abstraktit elementit avaavat tilaa katsojan omalle tulkinnalle ja tunteille\, jolloin jokainen kokemus on ainutlaatuinen. \nFiguratiivisen ja abstraktin ilmaisun välinen taide sijaitsee usein niin sanotun ”kolmannen tilan” alueella\, jossa yhdistyvät sekä realistiset että ei- realistiset elementit. Tällaisessa taiteessa on pyrkimys luoda tarinoita\, kulttuurisia viittauksia sekä henkilökohtaisia yleisinhimillisiä kokemuksia. \nYhdistämällä näitä kahta tyyliä\, yritän luoda teoksia\, jotka leikkivät sekä tunnistettavuuden että vapauden kanssa. Tämä yhdistelmä voi haastaa myös katsojan odotuksia ja avata uusia näkökulmia taiteen ymmärtämiseen. Tällaisella lähestymistavalla yritän herättää kysymyksiä siitä\, mitä taide voi olla ja ilmaantua\, ja miten se voi kommunikoida inhimillisiä tunteita ja ajatuksia herättäen. \nFiguratiivista mättöä/Abstraktia huttua on Jokiahon toinen\, päivitetty versio näyttelystä tällä kyseisellä teemalla. Ensimmäinen pidettiin Tampereella helmi-maaliskuussa galleria Rongassa saaden aikaan kiinnostuneen ja innostuneenkin vastaanoton. \nAvajaiset 6.9. kello 17–19.  Tervetuloa tutustumaan! \nIsmo Jokiaho\nLisätietoja: www.ismojokiaho.fi
URL:https://kulttuurikonttori.fi/kalenteri/figuratiivista-mattoa-abstraktia-huttua-nayttely-ismo-jokiaho/
ATTACH;FMTTYPE=image/jpeg:https://kulttuurikonttori.fi/wp-content/uploads/2025/08/elinikainenoppiminen_1000.jpg
END:VEVENT
BEGIN:VEVENT
DTSTART;TZID=Europe/Helsinki:20250926T180000
DTEND;TZID=Europe/Helsinki:20250926T210000
DTSTAMP:20260424T174330
CREATED:20250918T070318Z
LAST-MODIFIED:20250918T070417Z
UID:1234-1758909600-1758920400@kulttuurikonttori.fi
SUMMARY:Kulmaklubi - Emily Frost ❤ + Alexander K ❤ sekä Open stage ❤
DESCRIPTION:Konttorin Kulman lauluntekijöiden ilta eli Kulmaklubi saa syyskuun klubille vieraaksi kaksi upeaa nousevaa indietaivaan tähteä Emily Frostin ja Alexander K:n! \nAikataulu:klo 11 Kulttuurikonttori aukeaaklo 17 Open stageleisten soundareitaklo 18 Open stage -osuusn. klo 19.00 Alexander Kn. klo 20.00 Emily Frostklo 21 tapahtuma päättyy\nKlubi starttaa klo 18 open stage -osuudella\, jossa kuka tahansa voi esittää oman biisinsä matalalla kynnyksellä. Stagena toimii Konttorin gallerian nurkka\, joten suosittelemme pieniä yleensä 1-2 hlön kokoonpanoja. Ilmoittaudu mukaan ennakkoon niin varmistat\, että esityksesi mahtuu mukaan! Voit ilmoittautua mailitse herranoo@gmail.com tai laittamalla viestiä IG:ssä @kulmaklubi.\nVapaa pääsy!
URL:https://kulttuurikonttori.fi/kalenteri/kulmaklubi-emily-frostin-%e2%9d%a4-alexander-kn-%e2%9d%a4-seka-open-stage-%e2%9d%a4/
ATTACH;FMTTYPE=image/jpeg:https://kulttuurikonttori.fi/wp-content/uploads/2025/09/Kulmakubi-260925.jpg
END:VEVENT
END:VCALENDAR