BEGIN:VCALENDAR
VERSION:2.0
PRODID:-//Kulttuurikonttori - ECPv6.9.1//NONSGML v1.0//EN
CALSCALE:GREGORIAN
METHOD:PUBLISH
X-ORIGINAL-URL:https://kulttuurikonttori.fi
X-WR-CALDESC:Events for Kulttuurikonttori
REFRESH-INTERVAL;VALUE=DURATION:PT1H
X-Robots-Tag:noindex
X-PUBLISHED-TTL:PT1H
BEGIN:VTIMEZONE
TZID:Europe/Helsinki
BEGIN:DAYLIGHT
TZOFFSETFROM:+0200
TZOFFSETTO:+0300
TZNAME:EEST
DTSTART:20250330T010000
END:DAYLIGHT
BEGIN:STANDARD
TZOFFSETFROM:+0300
TZOFFSETTO:+0200
TZNAME:EET
DTSTART:20251026T010000
END:STANDARD
BEGIN:DAYLIGHT
TZOFFSETFROM:+0200
TZOFFSETTO:+0300
TZNAME:EEST
DTSTART:20260329T010000
END:DAYLIGHT
BEGIN:STANDARD
TZOFFSETFROM:+0300
TZOFFSETTO:+0200
TZNAME:EET
DTSTART:20261025T010000
END:STANDARD
END:VTIMEZONE
BEGIN:VEVENT
DTSTART;TZID=Europe/Helsinki:20251130T110000
DTEND;TZID=Europe/Helsinki:20260106T180000
DTSTAMP:20260424T131643
CREATED:20251125T081348Z
LAST-MODIFIED:20251125T081348Z
UID:1288-1764500400-1767722400@kulttuurikonttori.fi
SUMMARY:Minna Salonen - Parallel World
DESCRIPTION:Minna Salonen on kuvataiteilija (Yamk)\, joka työskentelee maalauksen\, kolmiulotteisten kangasveistosten ja installaatioiden parissa. Näyttely Parallel World viittaa Salosen kokemuksiin autiotaloista. Rinnakkain elää kaksi maailmaa: kiireinen nykymaailma kännyköineen ja autiotalon maailma\, jossa kaikki hidastuu. Näyttelyssä näkyy se\, miten luonto ottaa valtaansa vanhan rakennuksen. Puut\, kasvit ja kukat valtaavat alaa romahtaneessa talossa. Lepakot\, perhoset ja ampiaiset asuttavat nyt taloa ihmisen sijaan.
URL:https://kulttuurikonttori.fi/kalenteri/minna-salonen-parallel-world/
CATEGORIES:Konttorin Galleria
END:VEVENT
BEGIN:VEVENT
DTSTART;TZID=Europe/Helsinki:20251212T180000
DTEND;TZID=Europe/Helsinki:20251212T210000
DTSTAMP:20260424T131643
CREATED:20250724T163126Z
LAST-MODIFIED:20250724T163126Z
UID:1181-1765562400-1765573200@kulttuurikonttori.fi
SUMMARY:Paint and wine
DESCRIPTION:Kurssilla maalataan akryylimaaleilla kankaalle. Jokainen saa maalata omanlaisensa teoksen ja rentoutua itse tuomansa lempijuomansa äärellä. Materiaalit sisältyvät kurssin hintaan. \nKurssi sopii myös ystäväporukan tai pienen työyhteisön pikkujoulun viettoon.
URL:https://kulttuurikonttori.fi/kalenteri/paint-and-wine/
CATEGORIES:KOnttorin kurssit
END:VEVENT
END:VCALENDAR